BEGIN:VCALENDAR
VERSION:2.0
PRODID:-//Tukios.com/
BEGIN:VEVENT
UID:9641e6f3-55c9-4708-8275-4dfc7a1ff0ab@www.zahariafamilyfuneral.com
DTSTAMP:20260421T011330Z
DTSTART:20260426T220000Z
DTEND:20260427T000000Z
SUMMARY:Visitation
DESCRIPTION:
URL:https://www.zahariafamilyfuneral.com/obituaries/patricia-eckmann
LOCATION: 102 East Ciro Street  Truman MN 56088
GEO:43.8280273;-94.4354769
END:VEVENT
END:VCALENDAR