BEGIN:VCALENDAR
VERSION:2.0
PRODID:-//Tukios.com/
BEGIN:VEVENT
UID:bea27f8e-9a75-4c49-bab3-4151b73e62ed@www.zahariafamilyfuneral.com
DTSTAMP:20260421T011411Z
DTSTART:20260427T160000Z
DTEND:20260427T170000Z
SUMMARY:Funeral Service
DESCRIPTION:
URL:https://www.zahariafamilyfuneral.com/obituaries/patricia-eckmann
LOCATION: 110 E 4th St N  Truman MN 56088
GEO:43.8323946;-94.4342867
END:VEVENT
END:VCALENDAR